BEGIN:VCALENDAR
VERSION:2.0
PRODID:-//Miami Escorts - Travel Companion - Dinner Companion - Exotic Vivian - ECPv6.15.20//NONSGML v1.0//EN
CALSCALE:GREGORIAN
METHOD:PUBLISH
X-WR-CALNAME:Miami Escorts - Travel Companion - Dinner Companion - Exotic Vivian
X-ORIGINAL-URL:https://www.exoticvivian.com
X-WR-CALDESC:Events for Miami Escorts - Travel Companion - Dinner Companion - Exotic Vivian
REFRESH-INTERVAL;VALUE=DURATION:PT1H
X-Robots-Tag:noindex
X-PUBLISHED-TTL:PT1H
BEGIN:VTIMEZONE
TZID:America/New_York
BEGIN:DAYLIGHT
TZOFFSETFROM:-0500
TZOFFSETTO:-0400
TZNAME:EDT
DTSTART:20250309T070000
END:DAYLIGHT
BEGIN:STANDARD
TZOFFSETFROM:-0400
TZOFFSETTO:-0500
TZNAME:EST
DTSTART:20251102T060000
END:STANDARD
BEGIN:DAYLIGHT
TZOFFSETFROM:-0500
TZOFFSETTO:-0400
TZNAME:EDT
DTSTART:20260308T070000
END:DAYLIGHT
BEGIN:STANDARD
TZOFFSETFROM:-0400
TZOFFSETTO:-0500
TZNAME:EST
DTSTART:20261101T060000
END:STANDARD
BEGIN:DAYLIGHT
TZOFFSETFROM:-0500
TZOFFSETTO:-0400
TZNAME:EDT
DTSTART:20270314T070000
END:DAYLIGHT
BEGIN:STANDARD
TZOFFSETFROM:-0400
TZOFFSETTO:-0500
TZNAME:EST
DTSTART:20271107T060000
END:STANDARD
END:VTIMEZONE
BEGIN:VEVENT
DTSTART;VALUE=DATE:20260301
DTEND;VALUE=DATE:20260303
DTSTAMP:20260423T113741
CREATED:20260211T044634Z
LAST-MODIFIED:20260211T044634Z
UID:3179-1772323200-1772495999@www.exoticvivian.com
SUMMARY:Unavailable
DESCRIPTION:
URL:https://www.exoticvivian.com/event/unavailable-4/
END:VEVENT
BEGIN:VEVENT
DTSTART;VALUE=DATE:20260303
DTEND;VALUE=DATE:20260307
DTSTAMP:20260423T113741
CREATED:20260211T044727Z
LAST-MODIFIED:20260211T044727Z
UID:3181-1772496000-1772841599@www.exoticvivian.com
SUMMARY:NASHVILLE
DESCRIPTION:
URL:https://www.exoticvivian.com/event/nashville-20/
END:VEVENT
BEGIN:VEVENT
DTSTART;VALUE=DATE:20260307
DTEND;VALUE=DATE:20260511
DTSTAMP:20260423T113741
CREATED:20260211T044814Z
LAST-MODIFIED:20260211T044847Z
UID:3183-1772841600-1778457599@www.exoticvivian.com
SUMMARY:Miami Beach
DESCRIPTION:
URL:https://www.exoticvivian.com/event/miami-beach-48/
END:VEVENT
END:VCALENDAR