BEGIN:VCALENDAR
VERSION:2.0
PRODID:-//Miami Escorts - Travel Companion - Dinner Companion - Exotic Vivian - ECPv6.15.20//NONSGML v1.0//EN
CALSCALE:GREGORIAN
METHOD:PUBLISH
X-WR-CALNAME:Miami Escorts - Travel Companion - Dinner Companion - Exotic Vivian
X-ORIGINAL-URL:https://www.exoticvivian.com
X-WR-CALDESC:Events for Miami Escorts - Travel Companion - Dinner Companion - Exotic Vivian
REFRESH-INTERVAL;VALUE=DURATION:PT1H
X-Robots-Tag:noindex
X-PUBLISHED-TTL:PT1H
BEGIN:VTIMEZONE
TZID:UTC
BEGIN:STANDARD
TZOFFSETFROM:+0000
TZOFFSETTO:+0000
TZNAME:UTC
DTSTART:20220101T000000
END:STANDARD
END:VTIMEZONE
BEGIN:VEVENT
DTSTART;VALUE=DATE:20230801
DTEND;VALUE=DATE:20230809
DTSTAMP:20260425T141308
CREATED:20230720T215748Z
LAST-MODIFIED:20230720T215748Z
UID:2794-1690848000-1691539199@www.exoticvivian.com
SUMMARY:Nashville
DESCRIPTION:
URL:https://www.exoticvivian.com/event/nashville-16/
END:VEVENT
BEGIN:VEVENT
DTSTART;VALUE=DATE:20230809
DTEND;VALUE=DATE:20230822
DTSTAMP:20260425T141308
CREATED:20230720T220055Z
LAST-MODIFIED:20230720T220055Z
UID:2798-1691539200-1692662399@www.exoticvivian.com
SUMMARY:Miami Beach
DESCRIPTION:
URL:https://www.exoticvivian.com/event/miami-beach-40/
END:VEVENT
BEGIN:VEVENT
DTSTART;VALUE=DATE:20230822
DTEND;VALUE=DATE:20230830
DTSTAMP:20260425T141308
CREATED:20230720T215844Z
LAST-MODIFIED:20230720T215844Z
UID:2796-1692662400-1693353599@www.exoticvivian.com
SUMMARY:Atlanta
DESCRIPTION:
URL:https://www.exoticvivian.com/event/atlanta-6/
END:VEVENT
BEGIN:VEVENT
DTSTART;VALUE=DATE:20230830
DTEND;VALUE=DATE:20231121
DTSTAMP:20260425T141308
CREATED:20230720T220140Z
LAST-MODIFIED:20231109T001919Z
UID:2800-1693353600-1700524799@www.exoticvivian.com
SUMMARY:Miami Beach
DESCRIPTION:
URL:https://www.exoticvivian.com/event/miami-beach-41/
END:VEVENT
END:VCALENDAR