BEGIN:VCALENDAR
VERSION:2.0
PRODID:-//Miami Escorts - Travel Companion - Dinner Companion - Exotic Vivian - ECPv6.15.20//NONSGML v1.0//EN
CALSCALE:GREGORIAN
METHOD:PUBLISH
X-WR-CALNAME:Miami Escorts - Travel Companion - Dinner Companion - Exotic Vivian
X-ORIGINAL-URL:https://www.exoticvivian.com
X-WR-CALDESC:Events for Miami Escorts - Travel Companion - Dinner Companion - Exotic Vivian
REFRESH-INTERVAL;VALUE=DURATION:PT1H
X-Robots-Tag:noindex
X-PUBLISHED-TTL:PT1H
BEGIN:VTIMEZONE
TZID:UTC
BEGIN:STANDARD
TZOFFSETFROM:+0000
TZOFFSETTO:+0000
TZNAME:UTC
DTSTART:20210101T000000
END:STANDARD
END:VTIMEZONE
BEGIN:VEVENT
DTSTART;VALUE=DATE:20221201
DTEND;VALUE=DATE:20230801
DTSTAMP:20260425T222735
CREATED:20221119T092039Z
LAST-MODIFIED:20230720T220332Z
UID:2777-1669852800-1690847999@www.exoticvivian.com
SUMMARY:Miami Beach
DESCRIPTION:
URL:https://www.exoticvivian.com/event/miami-beach-39/
END:VEVENT
END:VCALENDAR